{"text_format":"1","workbook":"xlsx","n_sheets":4,"sheets":["Dashboard","Backing Sheet Data","vELDashboard","Year Calculations"],"not_rendered":{"charts":4,"images":1,"macros":0,"external_links":1,"defined_names":4,"comments":0,"pivot_tables":0},"unopened":[],"bounds":{"document_bytes":16777216,"sheet_cells":100000,"rows_first":2000,"rows_last":500,"rows_between":2000,"halvings":0,"cell_chars":16384,"cell_head_chars":4096},"cells_cut":0,"cells_raw":0,"read":"whole","date_system":"1900"}

{"sheet":"Dashboard","index":0,"n_rows":20,"n_cols":27,"rows_kept":20,"cut":false,"hidden":false,"merged":[[8,11,8,12],[8,9,8,10],[8,7,8,8],[6,0,7,12],[8,0,8,6],[15,9,15,10],[15,11,15,12],[12,0,13,12],[9,11,9,12],[10,11,10,12],[11,11,11,12],[14,0,14,6],[14,7,14,8],[14,9,14,10],[14,11,14,12],[9,7,9,8],[10,7,10,8],[11,7,11,8],[9,9,9,10],[10,9,10,10],[11,9,11,10],[16,9,16,10],[16,11,16,12],[19,0,19,6],[19,7,19,8],[19,9,19,10],[19,11,19,12],[17,0,17,6],[17,7,17,8],[17,9,17,10],[17,11,17,12],[18,0,18,6],[18,7,18,8],[18,9,18,10],[18,11,18,12],[0,3,1,4],[2,3,3,4],[4,3,5,4],[16,0,16,6],[16,7,16,8],[15,0,15,6],[15,7,15,8],[9,0,9,6],[10,0,10,6],[11,0,11,6],[0,0,1,2],[2,0,3,2],[4,0,5,2],[0,5,1,8],[2,5,3,8],[4,5,5,8],[0,9,1,10],[2,9,3,10],[4,9,5,10],[0,11,1,14],[2,11,3,14],[4,11,5,14],[0,15,1,16],[2,15,3,16],[4,15,5,16],[4,17,5,20],[0,23,1,25],[2,23,3,25],[4,23,5,25],[0,17,1,20],[2,17,3,20],[0,26,1,27],[2,26,3,27],[4,26,5,27],[4,21,5,22],[0,21,1,22],[2,21,3,22]]}
["Sent this month:",null,null,5440,null,"Left process at stage 1:",null,null,null,1011,null,"Left process at stage 2:",null,null,null,60,null,"Exited process:",null,null,null,408,null,"Settled:",null,null,371]
[]
["Δ from last month:",null,null,271,null,"Δ from last month:",null,null,null,135,null,"Δ from last month:",null,null,null,5,null,"Δ from last month:",null,null,null,32,null,"Δ from last month:",null,null,14]
[]
["Rolling 12 months:",null,null,74330,null,"Rolling 12 months:",null,null,null,13829,null,"Rolling 12 months:",null,null,null,893,null,"Rolling 12 months:",null,null,null,6449,null,"Rolling 12 months:",null,null,4074]
[]
["Left Process Breakdowns - Stage 1:"]
[]
["Reason",null,null,null,null,null,null,"This Month",null,"Last Month",null,"Δ"]
["Liability Decision Timeout",null,null,null,null,null,null,831,null,751,null,80]
["Other",null,null,null,null,null,null,174,null,119,null,55]
["Total",null,null,null,null,null,null,1005,null,870,null,135]
["Left Process Breakdowns - Stage 2:"]
[]
["Reason",null,null,null,null,null,null,"This Month",null,"Last Month",null,"Δ"]
["Interim payment more than £1,000 not agreed:",null,null,null,null,null,null,0,null,1,null,-1]
["Settlement pack repudiated:",null,null,null,null,null,null,1,null,1,null,0]
["Settlement pack timeout:",null,null,null,null,null,null,32,null,24,null,8]
["No agreement; Court Proceedings pack:",null,null,null,null,null,null,27,null,29,null,-2]
["Total",null,null,null,null,null,null,60,null,55,null,5]

{"sheet":"Backing Sheet Data","index":1,"n_rows":84,"n_cols":14,"rows_kept":84,"cut":false,"hidden":false,"merged":[[3,0,3,1],[3,4,3,5],[21,4,21,5],[8,8,8,9]]}
["Reporting date","2024-03-01"]
["Previous month","2024-02-01"]
[]
["Rolling 12 CNFs sent",null,null,null,"Average General Damages chart data",null,null,null,"Left Process Breakdown"]
[]
["Period","Rolling 12 Sent",null,null,"Row Labels","Ave General Damages",null,null,"This Month LDT","This Month Other Liability","This Month Interim Payment Not Agreed","This Month Repudiated","This Month Timeout","This Month Court Proceedings"]
["2023-04-01",72917,null,null,"2023-04-01",6045.1940649999997,null,null,831,174,0,1,32,27]
["2023-05-01",72689,null,null,"2023-05-01",5434.3862570000001]
["2023-06-01",73409,null,null,"2023-06-01",5958.5932249999996,null,null,"CNF Sent Monthly Volumes Chart Data"]
["2023-07-01",73893,null,null,"2023-07-01",5851.862478]
["2023-08-01",74140,null,null,"2023-08-01",6023.6783329999998,null,null,"Sum of ClaimCount","Column Labels"]
["2023-09-01",76874,null,null,"2023-09-01",5718.6038769999996,null,null,"Row Labels","RTA","PL","ELD","EL","Grand Total"]
["2023-10-01",76827,null,null,"2023-10-01",5677.7576920000001,null,null,"2023-04-01",6113,2733,543,2150,11539]
["2023-11-01",76608,null,null,"2023-11-01",5839.1911110000001,null,null,"2023-05-01",6862,3171,614,2215,12862]
["2023-12-01",76367,null,null,"2023-12-01",6303.9472820000001,null,null,"2023-06-01",7700,3451,640,2560,14351]
["2024-01-01",76071,null,null,"2024-01-01",5352.9299129999999,null,null,"2023-07-01",7297,3350,695,2469,13811]
["2024-02-01",75647,null,null,"2024-02-01",4278.2727949999999,null,null,"2023-08-01",7471,3399,1003,2449,14322]
["2024-03-01",74330,null,null,"2024-03-01",2797.3880589999999,null,null,"2023-09-01",7021,3144,3522,2368,16055]
[null,null,null,null,"Grand Total",65281.805086999993,null,null,"2023-10-01",7839,3328,423,2490,14080]
[null,null,null,null,null,null,null,null,"2023-11-01",7729,3237,468,2526,13960]
[null,null,null,null,null,null,null,null,"2023-12-01",5709,2263,211,1619,9802]
[null,13291,null,null,"CNF Sent Monthly Volumes",null,null,null,"2024-01-01",7494,3163,452,2496,13605]
["Exit Process Reason","Total",null,null,null,null,null,null,"2024-02-01",7275,3037,437,2264,13013]
["Claim requires further investigation",6939,null,null,"DatePeriod","ClaimType","ClaimCount",null,"2024-03-01",6584,2708,564,2168,12024]
["Other",4842,null,null,"2023-01-01","RTA",1493,null,"Grand Total",85094,36984,9572,27774,159424]
["Duplicated claim",405,null,null,"2023-02-01","RTA",7486]
["Value of claim exceeds the upper limit",316,null,null,"2023-03-01","RTA",7470]
["Failure to provide adequate loss of earnings details",276,null,null,"2023-04-01","RTA",6113]
["Incomplete information provided on CNF",257,null,null,"2023-05-01","RTA",6862]
["Stage 1 costs not paid on time",99,null,null,"2023-06-01","RTA",7700]
["Withdrawl of claim",45,null,null,"2023-07-01","RTA",7297]
["Claim is too complex for process",37,null,null,"2023-08-01","RTA",7471]
["Interim Payment request not answered and/or paid on time",28,null,null,"2023-09-01","RTA",7021]
["Withdrawal of offer",23,null,null,"2023-10-01","RTA",7839]
["Value of claim below £1,000",15,null,null,"2023-11-01","RTA",7729]
["Failure to acknowledge CNF on time",6,null,null,"2023-12-01","RTA",5709]
["Interim Payment partial offer not accepted",3,null,null,"2024-01-01","RTA",7494]
[null,null,null,null,"2024-02-01","RTA",7275]
[null,null,null,null,"2024-03-01","RTA",6584]
[null,null,null,null,"2023-01-01","EL",504]
[null,null,null,null,"2023-02-01","EL",2355]
[null,null,null,null,"2023-03-01","EL",2656]
[null,null,null,null,"2023-04-01","EL",2150]
[null,null,null,null,"2023-05-01","EL",2215]
[null,null,null,null,"2023-06-01","EL",2560]
[null,null,null,null,"2023-07-01","EL",2469]
[null,null,null,null,"2023-08-01","EL",2449]
[null,null,null,null,"2023-09-01","EL",2368]
[null,null,null,null,"2023-10-01","EL",2490]
[null,null,null,null,"2023-11-01","EL",2526]
[null,null,null,null,"2023-12-01","EL",1619]
[null,null,null,null,"2024-01-01","EL",2496]
[null,null,null,null,"2024-02-01","EL",2264]
[null,null,null,null,"2024-03-01","EL",2168]
[null,null,null,null,"2023-01-01","ELD",90]
[null,null,null,null,"2023-02-01","ELD",521]
[null,null,null,null,"2023-03-01","ELD",533]
[null,null,null,null,"2023-04-01","ELD",543]
[null,null,null,null,"2023-05-01","ELD",614]
[null,null,null,null,"2023-06-01","ELD",640]
[null,null,null,null,"2023-07-01","ELD",695]
[null,null,null,null,"2023-08-01","ELD",1003]
[null,null,null,null,"2023-09-01","ELD",3522]
[null,null,null,null,"2023-10-01","ELD",423]
[null,null,null,null,"2023-11-01","ELD",468]
[null,null,null,null,"2023-12-01","ELD",211]
[null,null,null,null,"2024-01-01","ELD",452]
[null,null,null,null,"2024-02-01","ELD",437]
[null,null,null,null,"2024-03-01","ELD",564]
[null,null,null,null,"2023-01-01","PL",667]
[null,null,null,null,"2023-02-01","PL",3297]
[null,null,null,null,"2023-03-01","PL",3568]
[null,null,null,null,"2023-04-01","PL",2733]
[null,null,null,null,"2023-05-01","PL",3171]
[null,null,null,null,"2023-06-01","PL",3451]
[null,null,null,null,"2023-07-01","PL",3350]
[null,null,null,null,"2023-08-01","PL",3399]
[null,null,null,null,"2023-09-01","PL",3144]
[null,null,null,null,"2023-10-01","PL",3328]
[null,null,null,null,"2023-11-01","PL",3237]
[null,null,null,null,"2023-12-01","PL",2263]
[null,null,null,null,"2024-01-01","PL",3163]
[null,null,null,null,"2024-02-01","PL",3037]
[null,null,null,null,"2024-03-01","PL",2708]

{"sheet":"vELDashboard","index":2,"n_rows":113,"n_cols":26,"rows_kept":113,"cut":false,"hidden":true,"merged":[]}
[null,{"$f":"SUBTOTAL(9,vELDashboard[CNFs Sent])","v":290777},{"$f":"SUBTOTAL(9,vELDashboard[CNFs left at Stage 1])","v":46121},{"$f":"SUBTOTAL(9,vELDashboard[Stage 2 Exit])","v":1450},{"$f":"SUBTOTAL(9,vELDashboard[Exit process])","v":23798},{"$f":"SUBTOTAL(9,vELDashboard[Court Pack])","v":1932},{"$f":"SUBTOTAL(9,vELDashboard[Settled claims])","v":12422},{"$f":"SUBTOTAL(9,vELDashboard[General Damages])","v":280516.99329200003}]
["Period","CNFs Sent","CNFs left at Stage 1","Stage 2 Exit","Exit process","Court Pack","Settled claims","General Damages","General Damage Bands",null,"Period","Rolling 12 CNF Sent","Rolling 12 CNF Left at Stage 1","Rolling 12 Stage 2 Exit","Rolling 12 Exit Process","Rolling 12 Court Pack","Rolling 12 Settled Claims",null,"Period","CNFs Sent","CNFs left at Stage 1","Stage 2 Exit","Exit process","Court Pack","Settled claims","General Damages"]
["2013-10-01",58,0,0,0,0,0,null,null,null,{"$f":"vELDashboard[[#This Row],[Period]]","v":"2013-10-01"},null,null,null,null,null,null,null,{"$f":"tblPrevious12V2[[#This Row],[Period]]","v":"2013-10-01"},3421,1776,42,860,97,635,4307.3684880000001]
["2014-01-01",63,0,0,0,0,0,null,null,null,{"$f":"vELDashboard[[#This Row],[Period]]","v":"2014-01-01"},null,null,null,null,null,null,null,{"$f":"tblPrevious12V2[[#This Row],[Period]]","v":"2014-01-01"},4027,1499,55,945,96,710,4367.018]
["2014-03-01",57,0,0,0,0,0,null,null,null,{"$f":"vELDashboard[[#This Row],[Period]]","v":"2014-03-01"},null,null,null,null,null,null,null,{"$f":"tblPrevious12V2[[#This Row],[Period]]","v":"2014-03-01"},3796,1554,52,895,87,703,4512.4282499999999]
["2014-07-01",92,0,0,0,0,0,null,null,null,{"$f":"vELDashboard[[#This Row],[Period]]","v":"2014-07-01"},null,null,null,null,null,null,null,{"$f":"tblPrevious12V2[[#This Row],[Period]]","v":"2014-07-01"},2719,1520,59,790,74,542,4269.6721580000003]
["2014-08-01",101,0,0,0,0,0,null,null,null,{"$f":"vELDashboard[[#This Row],[Period]]","v":"2014-08-01"},null,null,null,null,null,null,null,{"$f":"tblPrevious12V2[[#This Row],[Period]]","v":"2014-08-01"},3673,1611,54,948,106,616,4432.8075319999998]
["2014-10-01",119,0,0,0,0,0,null,null,null,{"$f":"vELDashboard[[#This Row],[Period]]","v":"2014-10-01"},null,null,null,null,null,null,null,{"$f":"tblPrevious12V2[[#This Row],[Period]]","v":"2014-10-01"},3658,1148,41,688,75,616,4438.7770119999996]
["2014-11-01",91,0,0,0,0,0,null,null,null,{"$f":"vELDashboard[[#This Row],[Period]]","v":"2014-11-01"},null,null,null,null,null,null,null,{"$f":"tblPrevious12V2[[#This Row],[Period]]","v":"2014-11-01"},3424,1662,61,866,90,650,4519.3539689999998]
["2014-12-01",66,0,0,0,0,0,null,null,null,{"$f":"vELDashboard[[#This Row],[Period]]","v":"2014-12-01"},null,null,null,null,null,null,null,{"$f":"tblPrevious12V2[[#This Row],[Period]]","v":"2014-12-01"},2207,1490,50,853,83,563,4459.2569439999997]
["2015-04-01",82,0,0,0,0,0,null,null,null,{"$f":"vELDashboard[[#This Row],[Period]]","v":"2015-04-01"},null,null,null,null,null,null,null,{"$f":"tblPrevious12V2[[#This Row],[Period]]","v":"2015-04-01"},1650,1065,39,549,54,448,4698.7195529999999]
["2015-05-01",74,0,0,0,0,1,1200,"?0-?5k",null,{"$f":"vELDashboard[[#This Row],[Period]]","v":"2015-05-01"},null,null,null,null,null,null,null,{"$f":"tblPrevious12V2[[#This Row],[Period]]","v":"2015-05-01"},1976,846,36,524,72,468,4892.8720940000003]
["2015-07-01",88,0,0,0,0,1,3220.62,"?0-?5k",null,{"$f":"vELDashboard[[#This Row],[Period]]","v":"2015-07-01"},null,null,null,null,null,null,null,{"$f":"tblPrevious12V2[[#This Row],[Period]]","v":"2015-07-01"},2293,819,41,535,57,374,4706.51901]
["2015-08-01",80,0,0,0,0,0,null,null,null,{"$f":"vELDashboard[[#This Row],[Period]]","v":"2015-08-01"},{"$f":"SUM(B3:B14)","v":971},0,0,0,0,2,null,{"$f":"tblPrevious12V2[[#This Row],[Period]]","v":"2015-08-01"},1846,798,30,427,44,254,4394.581338]
["2015-12-01",55,0,0,0,0,0,null,null,null,{"$f":"vELDashboard[[#This Row],[Period]]","v":"2015-12-01"},{"$f":"SUM(B4:B15)","v":968},{"$f":"SUM(C4:C15)","v":0},{"$f":"SUM(D4:D15)","v":0},{"$f":"SUM(E4:E15)","v":0},{"$f":"SUM(F4:F15)","v":0},{"$f":"SUM(G4:G15)","v":2},null,{"$f":"tblPrevious12V2[[#This Row],[Period]]","v":"2015-12-01"},2625,982,33,536,63,401,4991.5419949999996]
["2016-01-01",87,0,0,0,0,0,null,null,null,{"$f":"vELDashboard[[#This Row],[Period]]","v":"2016-01-01"},992,{"$f":"SUM(C5:C16)","v":0},0,0,0,2,null,{"$f":"tblPrevious12V2[[#This Row],[Period]]","v":"2016-01-01"},2670,1134,26,659,40,417,4906.4452030000002]
["2016-02-01",84,0,0,0,0,1,2584.94,"?0-?5k",null,{"$f":"vELDashboard[[#This Row],[Period]]","v":"2016-02-01"},{"$f":"SUM(B6:B17)","v":1019},{"$f":"SUM(C6:C17)","v":0},0,0,0,3,null,{"$f":"tblPrevious12V2[[#This Row],[Period]]","v":"2016-02-01"},2230,1112,28,638,44,406,4773.7204179999999]
["2016-03-01",73,0,0,0,0,0,null,null,null,{"$f":"vELDashboard[[#This Row],[Period]]","v":"2016-03-01"},1000,{"$f":"SUM(C7:C18)","v":0},0,0,0,3,null,{"$f":"tblPrevious12V2[[#This Row],[Period]]","v":"2016-03-01"},1977,980,37,531,45,364,4694.4902739999998]
["2016-04-01",90,0,0,0,0,0,null,null,null,{"$f":"vELDashboard[[#This Row],[Period]]","v":"2016-04-01"},989,{"$f":"SUM(C8:C19)","v":0},0,0,0,3,null,{"$f":"tblPrevious12V2[[#This Row],[Period]]","v":"2016-04-01"},2223,992,26,584,44,383,4551.4091900000003]
["2016-05-01",84,0,0,0,0,0,null,null,null,{"$f":"vELDashboard[[#This Row],[Period]]","v":"2016-05-01"},954,{"$f":"SUM(C9:C20)","v":0},0,0,0,3,null,{"$f":"tblPrevious12V2[[#This Row],[Period]]","v":"2016-05-01"},1502,614,23,380,25,343,4719.332332]
["2016-06-01",89,0,0,0,0,0,null,null,null,{"$f":"vELDashboard[[#This Row],[Period]]","v":"2016-06-01"},952,{"$f":"SUM(C10:C21)","v":0},0,0,0,3,null,{"$f":"tblPrevious12V2[[#This Row],[Period]]","v":"2016-06-01"},2276,1164,37,637,63,451,4852.8321059999998]
["2016-07-01",84,0,0,0,0,0,null,null,null,{"$f":"vELDashboard[[#This Row],[Period]]","v":"2016-07-01"},970,{"$f":"SUM(C11:C22)","v":0},0,0,0,3,null,{"$f":"tblPrevious12V2[[#This Row],[Period]]","v":"2016-07-01"},2315,993,45,597,57,414,4846.5958689999998]
["2016-09-01",124,0,0,0,0,0,null,null,null,{"$f":"vELDashboard[[#This Row],[Period]]","v":"2016-09-01"},1012,{"$f":"SUM(C12:C23)","v":0},0,0,0,3,null,{"$f":"tblPrevious12V2[[#This Row],[Period]]","v":"2016-09-01"},2199,928,26,577,40,347,4774.8293940000003]
["2016-10-01",205,0,0,0,0,0,null,null,null,{"$f":"vELDashboard[[#This Row],[Period]]","v":"2016-10-01"},1143,{"$f":"SUM(C13:C24)","v":0},0,0,0,2,null,{"$f":"tblPrevious12V2[[#This Row],[Period]]","v":"2016-10-01"},2288,1016,35,561,46,384,4795.169218]
["2016-11-01",446,0,0,0,0,0,null,null,null,{"$f":"vELDashboard[[#This Row],[Period]]","v":"2016-11-01"},1501,{"$f":"SUM(C14:C25)","v":0},0,0,0,1,null,{"$f":"tblPrevious12V2[[#This Row],[Period]]","v":"2016-11-01"},2442,992,37,567,54,378,4960.9055820000003]
["2016-12-01",545,0,0,0,0,0,null,null,null,{"$f":"vELDashboard[[#This Row],[Period]]","v":"2016-12-01"},1966,{"$f":"SUM(C15:C26)","v":0},0,0,0,1,null,{"$f":"tblPrevious12V2[[#This Row],[Period]]","v":"2016-12-01"},2419,994,31,595,40,359,4906.8961550000004]
["2017-01-01",733,0,0,0,0,0,null,null,null,{"$f":"vELDashboard[[#This Row],[Period]]","v":"2017-01-01"},2644,{"$f":"SUM(C16:C27)","v":0},0,0,0,1,null,{"$f":"tblPrevious12V2[[#This Row],[Period]]","v":"2017-01-01"},2617,1055,35,629,39,361,4801.2036280000002]
["2017-02-01",731,0,0,0,0,0,null,null,null,{"$f":"vELDashboard[[#This Row],[Period]]","v":"2017-02-01"},3288,{"$f":"SUM(C17:C28)","v":0},0,0,0,1,null,{"$f":"tblPrevious12V2[[#This Row],[Period]]","v":"2017-02-01"},2456,1019,36,640,38,371,4718.2532879999999]
["2017-03-01",732,0,0,0,0,0,null,null,null,{"$f":"vELDashboard[[#This Row],[Period]]","v":"2017-03-01"},3936,{"$f":"SUM(C18:C29)","v":0},0,0,0,0,null,{"$f":"tblPrevious12V2[[#This Row],[Period]]","v":"2017-03-01"},2609,1126,43,713,45,426,5028.1605630000004]
["2017-04-01",557,0,0,0,0,0,null,null,null,{"$f":"vELDashboard[[#This Row],[Period]]","v":"2017-04-01"},4420,{"$f":"SUM(C19:C30)","v":0},0,0,0,0,null,{"$f":"tblPrevious12V2[[#This Row],[Period]]","v":"2017-04-01"},1952,1039,38,577,35,351,5112.0429620000004]
["2017-05-01",690,0,0,0,0,0,null,null,null,{"$f":"vELDashboard[[#This Row],[Period]]","v":"2017-05-01"},5020,{"$f":"SUM(C20:C31)","v":0},0,0,0,0,null,{"$f":"tblPrevious12V2[[#This Row],[Period]]","v":"2017-05-01"},2383,1000,24,539,39,365,4867.4547670000002]
["2017-06-01",660,0,0,0,0,0,null,null,null,{"$f":"vELDashboard[[#This Row],[Period]]","v":"2017-06-01"},5596,{"$f":"SUM(C21:C32)","v":0},0,0,0,0,null,{"$f":"tblPrevious12V2[[#This Row],[Period]]","v":"2017-06-01"},2396,801,32,521,43,346,4871.2523119999996]
["2017-07-01",644,0,0,0,0,0,null,null,null,{"$f":"vELDashboard[[#This Row],[Period]]","v":"2017-07-01"},6151,{"$f":"SUM(C22:C33)","v":0},0,0,0,0,null,{"$f":"tblPrevious12V2[[#This Row],[Period]]","v":"2017-07-01"},2699,1208,45,717,60,412,4734.9004850000001]
["2017-08-01",699,0,0,0,0,0,null,null,null,{"$f":"vELDashboard[[#This Row],[Period]]","v":"2017-08-01"},6766,{"$f":"SUM(C23:C34)","v":0},0,0,0,0,null,{"$f":"tblPrevious12V2[[#This Row],[Period]]","v":"2017-08-01"},2101,948,42,561,47,336,4962.1931539999996]
["2017-09-01",705,0,0,0,0,0,null,null,null,{"$f":"vELDashboard[[#This Row],[Period]]","v":"2017-09-01"},7347,{"$f":"SUM(C24:C35)","v":0},0,0,0,0,null,{"$f":"tblPrevious12V2[[#This Row],[Period]]","v":"2017-09-01"},2418,1044,32,604,51,406,5118.0826100000004]
["2017-10-01",709,0,0,0,0,0,null,null,null,{"$f":"vELDashboard[[#This Row],[Period]]","v":"2017-10-01"},7851,{"$f":"SUM(C25:C36)","v":0},0,0,0,0,null,{"$f":"tblPrevious12V2[[#This Row],[Period]]","v":"2017-10-01"},2337,1012,53,508,40,383,5258.2505739999997]
["2017-11-01",717,0,0,0,0,0,null,null,null,{"$f":"vELDashboard[[#This Row],[Period]]","v":"2017-11-01"},8122,{"$f":"SUM(C26:C37)","v":0},0,0,0,0,null,{"$f":"tblPrevious12V2[[#This Row],[Period]]","v":"2017-11-01"},2257,1080,37,543,42,334,4974.6811369999996]
["2017-12-01",586,0,0,0,0,0,null,null,null,{"$f":"vELDashboard[[#This Row],[Period]]","v":"2017-12-01"},8163,{"$f":"SUM(C27:C38)","v":0},0,0,0,0,null,{"$f":"tblPrevious12V2[[#This Row],[Period]]","v":"2017-12-01"},2344,1096,37,572,54,366,5004.8880319999998]
["2018-01-01",822,0,0,0,0,0,null,null,null,{"$f":"vELDashboard[[#This Row],[Period]]","v":"2018-01-01"},8252,{"$f":"SUM(C28:C39)","v":0},0,0,0,0,null,{"$f":"tblPrevious12V2[[#This Row],[Period]]","v":"2018-01-01"},2374,1100,36,599,44,360,4797.1745270000001]
["2018-02-01",746,0,0,0,0,0,null,null,null,{"$f":"vELDashboard[[#This Row],[Period]]","v":"2018-02-01"},8267,{"$f":"SUM(C29:C40)","v":0},0,0,0,0,null,{"$f":"tblPrevious12V2[[#This Row],[Period]]","v":"2018-02-01"},2351,1030,44,564,42,352,5156.298323]
["2018-03-01",716,0,0,0,0,0,null,null,null,{"$f":"vELDashboard[[#This Row],[Period]]","v":"2018-03-01"},8251,{"$f":"SUM(C30:C41)","v":0},0,0,0,0,null,{"$f":"tblPrevious12V2[[#This Row],[Period]]","v":"2018-03-01"},2460,1081,43,625,44,339,5018.7872269999998]
["2018-04-01",752,0,0,0,0,0,null,null,null,{"$f":"vELDashboard[[#This Row],[Period]]","v":"2018-04-01"},8446,{"$f":"SUM(C31:C42)","v":0},0,0,0,0,null,"2022-12-01",1406,978,39,482,34,265,6165.9560000000001]
["2018-05-01",724,0,0,0,0,1,2855.6,"?0-?5k",null,{"$f":"vELDashboard[[#This Row],[Period]]","v":"2018-05-01"},8480,{"$f":"SUM(C32:C43)","v":0},0,0,0,1,null,"2023-01-01",2407,922,29,503,54,307,5831.012377]
["2018-06-01",739,0,0,0,0,1,2796,"?0-?5k",null,{"$f":"vELDashboard[[#This Row],[Period]]","v":"2018-06-01"},8559,{"$f":"SUM(C33:C44)","v":0},0,0,0,2,null,"2023-02-01",2201,788,38,392,32,324,5625.0179010000002]
["2018-07-01",744,0,0,0,0,0,null,null,null,{"$f":"vELDashboard[[#This Row],[Period]]","v":"2018-07-01"},8659,{"$f":"SUM(C34:C45)","v":0},0,0,0,2,null,"2023-03-01",2297,1028,41,534,30,335,6065.6919699999999]
["2018-08-01",751,0,0,0,0,0,null,null,null,{"$f":"vELDashboard[[#This Row],[Period]]","v":"2018-08-01"},8711,{"$f":"SUM(C35:C46)","v":0},0,0,0,2,null,"2023-04-01",2027,850,28,381,39,311,6064.3481019999999]
["2018-09-01",709,0,0,0,0,0,null,null,null,{"$f":"vELDashboard[[#This Row],[Period]]","v":"2018-09-01"},8715,{"$f":"SUM(C36:C47)","v":0},0,0,0,2,null,"2023-05-01",2079,1012,35,481,47,347,5604.6977230000002]
["2018-10-01",901,0,0,0,0,0,null,null,null,{"$f":"vELDashboard[[#This Row],[Period]]","v":"2018-10-01"},8907,{"$f":"SUM(C37:C48)","v":0},0,0,0,2,null,"2023-06-01",2342,1102,48,444,50,381,5824.8952490000001]
["2018-11-01",819,0,0,0,0,0,null,null,null,{"$f":"vELDashboard[[#This Row],[Period]]","v":"2018-11-01"},9009,{"$f":"SUM(C38:C49)","v":0},0,0,0,2,null,"2023-07-01",2325,1021,37,518,55,360,5981.562277]
["2018-12-01",637,0,0,0,0,0,null,null,null,{"$f":"vELDashboard[[#This Row],[Period]]","v":"2018-12-01"},9060,{"$f":"SUM(C39:C50)","v":0},0,0,0,2,null,"2023-08-01",2288,1183,27,556,52,325,6137.1051070000003]
["2019-01-01",925,0,0,0,0,0,null,null,null,{"$f":"vELDashboard[[#This Row],[Period]]","v":"2019-01-01"},9163,{"$f":"SUM(C40:C51)","v":0},0,0,0,2,null,"2023-09-01",2207,1039,26,543,30,233,6253.1459219999997]
["2019-02-01",891,0,0,0,0,0,null,null,null,{"$f":"vELDashboard[[#This Row],[Period]]","v":"2019-02-01"},9308,{"$f":"SUM(C41:C52)","v":0},0,0,0,2,null,"2023-10-01",2367,1070,50,472,42,340,5960.6469699999998]
["2019-03-01",986,0,0,0,0,0,null,null,null,{"$f":"vELDashboard[[#This Row],[Period]]","v":"2019-03-01"},9578,{"$f":"SUM(C42:C53)","v":0},0,0,0,2,null,"2023-11-01",2413,1142,35,602,22,373,6045.7014740000004]
["2019-04-01",985,0,0,0,0,0,null,null,null,{"$f":"vELDashboard[[#This Row],[Period]]","v":"2019-04-01"},9811,{"$f":"SUM(C43:C54)","v":0},0,0,0,2,null,"2023-12-01",1506,945,32,380,29,303,6327.3456429999997]
["2019-05-01",997,0,0,0,0,0,null,null,null,{"$f":"vELDashboard[[#This Row],[Period]]","v":"2019-05-01"},10084,{"$f":"SUM(C44:C55)","v":0},0,0,0,1,null,"2024-01-01",5482,1012,26,454,38,334,5473.6182630000003]
["2019-06-01",924,0,0,0,0,0,null,null,null,{"$f":"vELDashboard[[#This Row],[Period]]","v":"2019-06-01"},10269,{"$f":"SUM(C45:C56)","v":0},0,0,0,0,null,"2024-02-01",5169,876,26,376,29,357,6011.6427169999997]
["2019-07-01",1111,0,0,1,0,0,null,null,null,{"$f":"vELDashboard[[#This Row],[Period]]","v":"2019-07-01"},10636,{"$f":"SUM(C46:C57)","v":0},0,1,0,0,null,"2024-03-01",5440,1011,33,408,27,371,2797.3880589999999]
["2019-08-01",2102,0,0,0,0,0,null,null,null,{"$f":"vELDashboard[[#This Row],[Period]]","v":"2019-08-01"},11987,{"$f":"SUM(C47:C58)","v":0},0,1,0,0]
["2019-09-01",2933,5,0,13,2,3,3190.5433330000001,"?0-?5k",null,{"$f":"vELDashboard[[#This Row],[Period]]","v":"2019-09-01"},14211,{"$f":"SUM(C48:C59)","v":5},0,14,2,3]
["2019-10-01",3611,538,19,292,40,57,2799.7070170000002,"?0-?5k",null,{"$f":"vELDashboard[[#This Row],[Period]]","v":"2019-10-01"},16921,{"$f":"SUM(C49:C60)","v":543},19,306,42,60]
["2019-11-01",3427,619,15,332,32,73,4178.9265750000004,"?0-?5k",null,{"$f":"vELDashboard[[#This Row],[Period]]","v":"2019-11-01"},19529,{"$f":"SUM(C50:C61)","v":1162},34,638,74,133]
["2019-12-01",2464,551,21,298,32,87,3826.7237930000001,"?0-?5k",null,{"$f":"vELDashboard[[#This Row],[Period]]","v":"2019-12-01"},21356,{"$f":"SUM(C51:C62)","v":1713},55,936,106,220]
["2020-01-01",3495,572,15,388,44,93,3420.7329030000001,"?0-?5k",null,{"$f":"vELDashboard[[#This Row],[Period]]","v":"2020-01-01"},23926,{"$f":"SUM(C52:C63)","v":2285},70,1324,150,313]
["2020-02-01",3477,434,18,253,30,68,3148.6848519999999,"?0-?5k",null,{"$f":"vELDashboard[[#This Row],[Period]]","v":"2020-02-01"},26512,{"$f":"SUM(C53:C64)","v":2719},88,1577,180,381]
["2020-03-01",3232,682,21,375,42,84,3763.0748800000001,"?0-?5k",null,{"$f":"vELDashboard[[#This Row],[Period]]","v":"2020-03-01"},28758,{"$f":"SUM(C54:C65)","v":3401},109,1952,222,465]
["2020-04-01",2056,571,17,343,34,86,3950.6605810000001,"?0-?5k",null,{"$f":"vELDashboard[[#This Row],[Period]]","v":"2020-04-01"},29829,{"$f":"SUM(C55:C66)","v":3972},126,2295,256,551]
["2020-05-01",1701,410,21,218,25,81,3589.6297530000002,"?0-?5k",null,{"$f":"vELDashboard[[#This Row],[Period]]","v":"2020-05-01"},30533,{"$f":"SUM(C56:C67)","v":4382},147,2513,281,632]
["2020-06-01",2110,309,14,228,41,80,4804.9246249999997,"?0-?5k",null,{"$f":"vELDashboard[[#This Row],[Period]]","v":"2020-06-01"},31719,{"$f":"SUM(C57:C68)","v":4691},161,2741,322,712]
["2020-07-01",2587,355,11,199,24,59,3098.2918639999998,"?0-?5k",null,{"$f":"vELDashboard[[#This Row],[Period]]","v":"2020-07-01"},33195,{"$f":"SUM(C58:C69)","v":5046},172,2939,346,771]
["2020-08-01",2287,324,11,201,25,60,3350.3233329999998,"?0-?5k",null,{"$f":"vELDashboard[[#This Row],[Period]]","v":"2020-08-01"},33380,{"$f":"SUM(C59:C70)","v":5370},183,3140,371,831]
["2020-09-01",2937,416,11,209,25,77,4167.3276619999997,"?0-?5k",null,{"$f":"vELDashboard[[#This Row],[Period]]","v":"2020-09-01"},33384,{"$f":"SUM(C60:C71)","v":5781},194,3336,394,905]
["2020-10-01",2993,434,11,268,20,82,4509.7918289999998,"?0-?5k",null,{"$f":"vELDashboard[[#This Row],[Period]]","v":"2020-10-01"},32766,{"$f":"SUM(C61:C72)","v":5677},186,3312,374,930]
["2020-11-01",2775,445,12,280,28,81,3671.617283,"?0-?5k",null,{"$f":"vELDashboard[[#This Row],[Period]]","v":"2020-11-01"},32114,{"$f":"SUM(C62:C73)","v":5503},183,3260,370,938]
["2020-12-01",2244,410,15,237,28,97,5395.3718550000003,"?5-?10k",null,{"$f":"vELDashboard[[#This Row],[Period]]","v":"2020-12-01"},31894,{"$f":"SUM(C63:C74)","v":5362},177,3199,366,948]
["2021-01-01",2728,421,8,240,19,73,3724.561643,"?0-?5k",null,{"$f":"vELDashboard[[#This Row],[Period]]","v":"2021-01-01"},31127,{"$f":"SUM(C64:C75)","v":5211},170,3051,341,928]
["2021-02-01",2726,321,14,189,17,83,4560.5980719999998,"?0-?5k",null,{"$f":"vELDashboard[[#This Row],[Period]]","v":"2021-02-01"},30376,{"$f":"SUM(C65:C76)","v":5098},166,2987,328,943]
["2021-03-01",3257,509,9,279,26,108,4420.7618510000002,"?0-?5k",null,{"$f":"vELDashboard[[#This Row],[Period]]","v":"2021-03-01"},30401,{"$f":"SUM(C66:C77)","v":4925},154,2891,312,967]
["2021-04-01",2912,391,19,260,29,88,4123.1429539999999,"?0-?5k",null,{"$f":"vELDashboard[[#This Row],[Period]]","v":"2021-04-01"},31257,{"$f":"SUM(C67:C78)","v":4745},156,2808,307,969]
["2021-05-01",2812,415,13,266,23,79,4034.8431639999999,"?0-?5k",null,{"$f":"vELDashboard[[#This Row],[Period]]","v":"2021-05-01"},32368,{"$f":"SUM(C68:C79)","v":4750},148,2856,305,967]
["2021-06-01",3184,481,14,283,19,76,5251.054736,"?5-?10k",null,{"$f":"vELDashboard[[#This Row],[Period]]","v":"2021-06-01"},33442,{"$f":"SUM(C69:C80)","v":4922},148,2911,283,963]
["2021-07-01",3664,456,13,258,18,70,4755.9202850000001,"?0-?5k",null,{"$f":"vELDashboard[[#This Row],[Period]]","v":"2021-07-01"},{"$f":"SUM(B70:B81)","v":34519},{"$f":"SUM(C70:C81)","v":5023},150,2970,277,974]
["2021-08-01",5544,439,9,275,15,91,4561.312527,"?0-?5k",null,{"$f":"vELDashboard[[#This Row],[Period]]","v":"2021-08-01"},37776,{"$f":"SUM(C71:C82)","v":5138},148,3044,267,1005]
["2021-09-01",6626,810,19,453,35,181,5381.4367949999996,"?5-?10k",null,{"$f":"vELDashboard[[#This Row],[Period]]","v":"2021-09-01"},41465,{"$f":"SUM(C72:C83)","v":5532},156,3288,277,1109]
["2021-10-01",6456,1182,36,664,38,371,5077.9933959999998,"?5-?10k",null,{"$f":"vELDashboard[[#This Row],[Period]]","v":"2021-10-01"},44928,{"$f":"SUM(C73:C84)","v":6280},181,3684,295,1398]
["2021-11-01",6619,1279,43,734,45,427,5918.9504209999996,"?5-?10k",null,{"$f":"vELDashboard[[#This Row],[Period]]","v":"2021-11-01"},48772,{"$f":"SUM(C74:C85)","v":7114},212,4138,312,1744]
["2021-12-01",4803,1206,38,600,35,352,5522.130596,"?5-?10k",null,{"$f":"vELDashboard[[#This Row],[Period]]","v":"2021-12-01"},51331,{"$f":"SUM(C75:C86)","v":7910},235,4501,319,1999]
["2022-01-01",6163,1121,24,549,39,357,5549.0947050000004,"?5-?10k",null,{"$f":"vELDashboard[[#This Row],[Period]]","v":"2022-01-01"},54766,{"$f":"SUM(C76:C87)","v":8610},251,4810,339,2283]
["2022-02-01",5949,899,32,527,43,340,5456.3995580000001,"?5-?10k",null,{"$f":"vELDashboard[[#This Row],[Period]]","v":"2022-02-01"},57989,{"$f":"SUM(C77:C88)","v":9188},269,5148,365,2540]
["2022-03-01",6755,1265,43,684,60,351,5280.3521650000002,"?5-?10k",null,{"$f":"vELDashboard[[#This Row],[Period]]","v":"2022-03-01"},61487,{"$f":"SUM(C78:C89)","v":9944},303,5553,399,2783]
["2022-04-01",5347,1104,42,577,47,340,5746.5783229999997,"?5-?10k",null,{"$f":"vELDashboard[[#This Row],[Period]]","v":"2022-04-01"},63922,{"$f":"SUM(C79:C90)","v":10657},326,5870,417,3035]
["2022-05-01",6229,1200,32,632,51,406,5619.6429310000003,"?5-?10k",null,{"$f":"vELDashboard[[#This Row],[Period]]","v":"2022-05-01"},67339,{"$f":"SUM(C80:C91)","v":11442},345,6236,445,3362]
["2022-06-01",5931,1172,53,540,40,382,6031.9410989999997,"?5-?10k",null,{"$f":"vELDashboard[[#This Row],[Period]]","v":"2022-06-01"},70086,{"$f":"SUM(C81:C92)","v":12133},384,6493,466,3668]
["2022-07-01",6030,1243,37,557,40,325,5537.7700610000002,"?5-?10k",null,{"$f":"vELDashboard[[#This Row],[Period]]","v":"2022-07-01"},72452,{"$f":"SUM(C82:C93)","v":12920},408,6792,488,3923]
["2022-08-01",6602,1244,37,592,53,353,5499.1649850000003,"?5-?10k",null,{"$f":"vELDashboard[[#This Row],[Period]]","v":"2022-08-01"},73510,{"$f":"SUM(C83:C94)","v":13725},436,7109,526,4185]
["2022-09-01",6305,1231,36,602,43,339,5601.3201760000002,"?5-?10k",null,{"$f":"vELDashboard[[#This Row],[Period]]","v":"2022-09-01"},73189,{"$f":"SUM(C84:C95)","v":14146},453,7258,534,4343]
["2022-10-01",6288,1172,44,601,42,358,5656.5126810000002,"?5-?10k",null,{"$f":"vELDashboard[[#This Row],[Period]]","v":"2022-10-01"},73021,{"$f":"SUM(C85:C96)","v":14136},461,7195,538,4330]
["2022-11-01",6449,1220,43,644,44,333,5619.4100600000002,"?5-?10k",null,{"$f":"vELDashboard[[#This Row],[Period]]","v":"2022-11-01"},72851,{"$f":"SUM(C86:C97)","v":14077},461,7105,537,4236]
["2022-12-01",4312,1126,39,544,34,265,5709.3314330000003,"?5-?10k",null,{"$f":"vELDashboard[[#This Row],[Period]]","v":"2022-12-01"},72360,{"$f":"SUM(C87:C98)","v":13997},462,7049,536,4149]
["2023-01-01",6416,1050,29,557,54,306,5628.1555550000003,"?5-?10k",null,{"$f":"vELDashboard[[#This Row],[Period]]","v":"2023-01-01"},72613,{"$f":"SUM(C88:C99)","v":13926},467,7057,551,4098]
["2023-02-01",6173,924,38,444,32,330,5458.9217269999999,"?5-?10k",null,{"$f":"vELDashboard[[#This Row],[Period]]","v":"2023-02-01"},72837,{"$f":"SUM(C89:C100)","v":13951},473,6974,540,4088]
["2023-03-01",6757,1336,43,663,37,391,5984.3941679999998,"?5-?10k",null,{"$f":"vELDashboard[[#This Row],[Period]]","v":"2023-03-01"},72839,{"$f":"SUM(C90:C101)","v":14022},473,6953,517,4128]
["2023-04-01",5426,976,28,430,39,305,6045.1940649999997,"?5-?10k",null,{"$f":"vELDashboard[[#This Row],[Period]]","v":"2023-04-01"},72918,{"$f":"SUM(C91:C102)","v":13894},459,6806,509,4093]
["2023-05-01",6000,1178,35,543,47,342,5434.3862570000001,"?5-?10k",null,{"$f":"vELDashboard[[#This Row],[Period]]","v":"2023-05-01"},72689,{"$f":"SUM(C92:C103)","v":13872},462,6717,505,4029]
["2023-06-01",6651,1245,48,529,52,372,5958.5932249999996,"?5-?10k",null,{"$f":"vELDashboard[[#This Row],[Period]]","v":"2023-06-01"},73409,{"$f":"SUM(C93:C104)","v":13945},457,6706,517,4019]
["2023-07-01",6514,1161,37,589,55,355,5851.862478,"?5-?10k",null,{"$f":"vELDashboard[[#This Row],[Period]]","v":"2023-07-01"},73893,{"$f":"SUM(C94:C105)","v":13863},457,6738,532,4049]
["2023-08-01",6851,1340,27,632,52,324,6023.6783329999998,"?5-?10k",null,{"$f":"vELDashboard[[#This Row],[Period]]","v":"2023-08-01"},74142,{"$f":"SUM(C95:C106)","v":13959},447,6778,531,4020]
["2023-09-01",9034,1151,34,625,47,294,5718.6038769999996,"?5-?10k",null,{"$f":"vELDashboard[[#This Row],[Period]]","v":"2023-09-01"},76871,{"$f":"SUM(C96:C107)","v":13879},445,6801,535,3975]
["2023-10-01",6241,1193,50,546,42,338,5677.7576920000001,"?5-?10k",null,{"$f":"vELDashboard[[#This Row],[Period]]","v":"2023-10-01"},76824,{"$f":"SUM(C97:C108)","v":13900},451,6746,535,3955]
["2023-11-01",6231,1288,35,675,22,369,5839.1911110000001,"?5-?10k",null,{"$f":"vELDashboard[[#This Row],[Period]]","v":"2023-11-01"},76606,{"$f":"SUM(C98:C109)","v":13968},443,6777,513,3991]
["2023-12-01",4093,1117,32,474,29,287,6303.9472820000001,"?5-?10k",null,{"$f":"vELDashboard[[#This Row],[Period]]","v":"2023-12-01"},76387,{"$f":"SUM(C99:C110)","v":13959},436,6707,508,4013]
["2024-01-01",6111,1151,26,544,39,345,5352.9299129999999,"?5-?10k",null,{"$f":"vELDashboard[[#This Row],[Period]]","v":"2024-01-01"},{"$f":"SUM(B100:B111)","v":76082},{"$f":"SUM(C100:C111)","v":14060},{"$f":"SUM(D100:D111)","v":433},{"$f":"SUM(E100:E111)","v":6694},{"$f":"SUM(F100:F111)","v":493},{"$f":"SUM(G100:G111)","v":4052}]
["2024-02-01",5738,1018,26,454,31,372,4278.2727949999999,"?0-?5k",null,{"$f":"vELDashboard[[#This Row],[Period]]","v":"2024-02-01"},{"$f":"SUM(B101:B112)","v":75647},14154,421,6704,{"$f":"SUM(F101:F112)","v":492},{"$f":"SUM(G101:G112)","v":4094}]
["2024-03-01",5440,1011,33,408,27,371,2797.3880589999999,"?0-?5k",null,{"$f":"vELDashboard[[#This Row],[Period]]","v":"2024-03-01"},{"$f":"SUM(B102:B113)","v":74330},{"$f":"SUM(C102:C113)","v":13829},{"$f":"SUM(D102:D113)","v":411},{"$f":"SUM(E102:E113)","v":6449},{"$f":"SUM(F102:F113)","v":482},{"$f":"SUM(G102:G113)","v":4074}]

{"sheet":"Year Calculations","index":3,"n_rows":9,"n_cols":7,"rows_kept":9,"cut":false,"hidden":true,"merged":[]}
["Period","CNFs sent","CNFs left at stage 1","Stage 2 exit","Exit process","Court pack","Settled claims"]
["2013-14",{"$f":"SUM('Backing Sheet Data'!#REF!)","v":{"$error":"#REF!"}},{"$f":"SUM('Backing Sheet Data'!#REF!)","v":{"$error":"#REF!"}},{"$f":"SUM('Backing Sheet Data'!#REF!)","v":{"$error":"#REF!"}},{"$f":"SUM('Backing Sheet Data'!#REF!)","v":{"$error":"#REF!"}},{"$f":"SUM('Backing Sheet Data'!#REF!)","v":{"$error":"#REF!"}},{"$f":"SUM('Backing Sheet Data'!#REF!)","v":{"$error":"#REF!"}}]
["2014-15",{"$f":"SUM('Backing Sheet Data'!#REF!)","v":{"$error":"#REF!"}},{"$f":"SUM('Backing Sheet Data'!#REF!)","v":{"$error":"#REF!"}},{"$f":"SUM('Backing Sheet Data'!#REF!)","v":{"$error":"#REF!"}},{"$f":"SUM('Backing Sheet Data'!#REF!)","v":{"$error":"#REF!"}},{"$f":"SUM('Backing Sheet Data'!#REF!)","v":{"$error":"#REF!"}},{"$f":"SUM('Backing Sheet Data'!#REF!)","v":{"$error":"#REF!"}}]
["2015-16",{"$f":"SUM('Backing Sheet Data'!#REF!)","v":{"$error":"#REF!"}},{"$f":"SUM('Backing Sheet Data'!#REF!)","v":{"$error":"#REF!"}},{"$f":"SUM('Backing Sheet Data'!#REF!)","v":{"$error":"#REF!"}},{"$f":"SUM('Backing Sheet Data'!#REF!)","v":{"$error":"#REF!"}},{"$f":"SUM('Backing Sheet Data'!#REF!)","v":{"$error":"#REF!"}},{"$f":"SUM('Backing Sheet Data'!#REF!)","v":{"$error":"#REF!"}}]
["2016-17",{"$f":"SUM('Backing Sheet Data'!#REF!)","v":{"$error":"#REF!"}},{"$f":"SUM('Backing Sheet Data'!#REF!)","v":{"$error":"#REF!"}},{"$f":"SUM('Backing Sheet Data'!#REF!)","v":{"$error":"#REF!"}},{"$f":"SUM('Backing Sheet Data'!#REF!)","v":{"$error":"#REF!"}},{"$f":"SUM('Backing Sheet Data'!#REF!)","v":{"$error":"#REF!"}},{"$f":"SUM('Backing Sheet Data'!#REF!)","v":{"$error":"#REF!"}}]
["2017-18",{"$f":"SUM('Backing Sheet Data'!#REF!)","v":{"$error":"#REF!"}},{"$f":"SUM('Backing Sheet Data'!#REF!)","v":{"$error":"#REF!"}},{"$f":"SUM('Backing Sheet Data'!#REF!)","v":{"$error":"#REF!"}},{"$f":"SUM('Backing Sheet Data'!#REF!)","v":{"$error":"#REF!"}},{"$f":"SUM('Backing Sheet Data'!#REF!)","v":{"$error":"#REF!"}},{"$f":"SUM('Backing Sheet Data'!#REF!)","v":{"$error":"#REF!"}}]
["2018-19",{"$f":"SUM('Backing Sheet Data'!#REF!)","v":{"$error":"#REF!"}},{"$f":"SUM('Backing Sheet Data'!#REF!)","v":{"$error":"#REF!"}},{"$f":"SUM('Backing Sheet Data'!#REF!)","v":{"$error":"#REF!"}},{"$f":"SUM('Backing Sheet Data'!#REF!)","v":{"$error":"#REF!"}},{"$f":"SUM('Backing Sheet Data'!#REF!)","v":{"$error":"#REF!"}},{"$f":"SUM('Backing Sheet Data'!#REF!)","v":{"$error":"#REF!"}}]
["2019-20",{"$f":"SUM('Backing Sheet Data'!#REF!)","v":{"$error":"#REF!"}},{"$f":"SUM('Backing Sheet Data'!#REF!)","v":{"$error":"#REF!"}},{"$f":"SUM('Backing Sheet Data'!#REF!)","v":{"$error":"#REF!"}},{"$f":"SUM('Backing Sheet Data'!#REF!)","v":{"$error":"#REF!"}},{"$f":"SUM('Backing Sheet Data'!#REF!)","v":{"$error":"#REF!"}},{"$f":"SUM('Backing Sheet Data'!#REF!)","v":{"$error":"#REF!"}}]
["2020-21",{"$f":"SUM('Backing Sheet Data'!#REF!)","v":{"$error":"#REF!"}},{"$f":"SUM('Backing Sheet Data'!#REF!)","v":{"$error":"#REF!"}},{"$f":"SUM('Backing Sheet Data'!#REF!)","v":{"$error":"#REF!"}},{"$f":"SUM('Backing Sheet Data'!#REF!)","v":{"$error":"#REF!"}},{"$f":"SUM('Backing Sheet Data'!#REF!)","v":{"$error":"#REF!"}},{"$f":"SUM('Backing Sheet Data'!#REF!)","v":{"$error":"#REF!"}}]